BEGIN:VCALENDAR
PRODID:-//github.com/ical-org/ical.net//NONSGML ical.net 5.2.0//EN
VERSION:2.0
BEGIN:VEVENT
DTEND:20260930T130000Z
DTSTAMP:20260420T123200Z
DTSTART:20260930T050000Z
SEQUENCE:0
SUMMARY:Delårsrapport januari - augusti 2026
UID:b27919df-507b-4a83-831a-76a017db1361
END:VEVENT
BEGIN:VEVENT
DTEND:20260604T130000Z
DTSTAMP:20260420T123200Z
DTSTART:20260604T050000Z
SEQUENCE:0
SUMMARY:Delårsrapport januari - april 2026
UID:d28c8188-4ee7-42b3-8d41-0b85f4d6ad24
END:VEVENT
END:VCALENDAR
